BEGIN:VCALENDAR
VERSION:2.0
PRODID:-//The Spiritual Life &amp; Learning Center - ECPv6.15.20//NONSGML v1.0//EN
CALSCALE:GREGORIAN
METHOD:PUBLISH
X-ORIGINAL-URL:https://www.spiritual-center.org
X-WR-CALDESC:Events for The Spiritual Life &amp; Learning Center
REFRESH-INTERVAL;VALUE=DURATION:PT1H
X-Robots-Tag:noindex
X-PUBLISHED-TTL:PT1H
BEGIN:VTIMEZONE
TZID:America/New_York
BEGIN:DAYLIGHT
TZOFFSETFROM:-0500
TZOFFSETTO:-0400
TZNAME:EDT
DTSTART:20210314T070000
END:DAYLIGHT
BEGIN:STANDARD
TZOFFSETFROM:-0400
TZOFFSETTO:-0500
TZNAME:EST
DTSTART:20211107T060000
END:STANDARD
BEGIN:DAYLIGHT
TZOFFSETFROM:-0500
TZOFFSETTO:-0400
TZNAME:EDT
DTSTART:20220313T070000
END:DAYLIGHT
BEGIN:STANDARD
TZOFFSETFROM:-0400
TZOFFSETTO:-0500
TZNAME:EST
DTSTART:20221106T060000
END:STANDARD
BEGIN:DAYLIGHT
TZOFFSETFROM:-0500
TZOFFSETTO:-0400
TZNAME:EDT
DTSTART:20230312T070000
END:DAYLIGHT
BEGIN:STANDARD
TZOFFSETFROM:-0400
TZOFFSETTO:-0500
TZNAME:EST
DTSTART:20231105T060000
END:STANDARD
END:VTIMEZONE
BEGIN:VEVENT
DTSTART;TZID=America/New_York:20221106T150000
DTEND;TZID=America/New_York:20221106T173000
DTSTAMP:20260422T142148
CREATED:20220817T083452Z
LAST-MODIFIED:20220829T194856Z
UID:10001076-1667746800-1667755800@www.spiritual-center.org
SUMMARY:Prophetic Voice Series:  Reinhold Niebuhr - An American Conscience
DESCRIPTION:IN-PERSON at First Community North \nJoin us to view an award-winning documentary film:  “An American Conscience – The Reinhold Niebuhr Story” about America’s great public theologian \nAcross the series of videos viewers will hear from President Jimmy Carter\, Civil Rights icons Andrew Young\, Jesse Jackson and John Lewis\, writers David Brooks and Barbara Brown Taylor\, plus Martin Sheen\, Susannah Heschel\, theologians Walter Brueggemann and Stanley Hauerwas\, historian Taylor Branch and many others. \nWe will view the film together and have time for discussion and reflection. \nRev. Jim Long will be leading this discussion. \nRegistration coming soon.
URL:https://www.spiritual-center.org/event/prophetic-voice-series-reinhold-niebuhr-an-american-conscience/
LOCATION:First Community North\, 3777 Dublin Rd\, Columbus\, OH\, 43221\, United States
CATEGORIES:In-Person Event,Small Group,Video Discussion
ATTACH;FMTTYPE=image/jpeg:https://www.spiritual-center.org/wp-content/uploads/reinhold-niebuhr.jpg
ORGANIZER;CN="SLLC":MAILTO:jbratka@fcchurch.com
END:VEVENT
END:VCALENDAR