BEGIN:VCALENDAR
VERSION:2.0
PRODID:-//The Spiritual Life &amp; Learning Center - ECPv6.15.20//NONSGML v1.0//EN
CALSCALE:GREGORIAN
METHOD:PUBLISH
X-ORIGINAL-URL:https://www.spiritual-center.org
X-WR-CALDESC:Events for The Spiritual Life &amp; Learning Center
REFRESH-INTERVAL;VALUE=DURATION:PT1H
X-Robots-Tag:noindex
X-PUBLISHED-TTL:PT1H
BEGIN:VTIMEZONE
TZID:America/New_York
BEGIN:DAYLIGHT
TZOFFSETFROM:-0500
TZOFFSETTO:-0400
TZNAME:EDT
DTSTART:20250309T070000
END:DAYLIGHT
BEGIN:STANDARD
TZOFFSETFROM:-0400
TZOFFSETTO:-0500
TZNAME:EST
DTSTART:20251102T060000
END:STANDARD
BEGIN:DAYLIGHT
TZOFFSETFROM:-0500
TZOFFSETTO:-0400
TZNAME:EDT
DTSTART:20260308T070000
END:DAYLIGHT
BEGIN:STANDARD
TZOFFSETFROM:-0400
TZOFFSETTO:-0500
TZNAME:EST
DTSTART:20261101T060000
END:STANDARD
BEGIN:DAYLIGHT
TZOFFSETFROM:-0500
TZOFFSETTO:-0400
TZNAME:EDT
DTSTART:20270314T070000
END:DAYLIGHT
BEGIN:STANDARD
TZOFFSETFROM:-0400
TZOFFSETTO:-0500
TZNAME:EST
DTSTART:20271107T060000
END:STANDARD
END:VTIMEZONE
BEGIN:VEVENT
DTSTART;TZID=America/New_York:20260517T150000
DTEND;TZID=America/New_York:20260517T170000
DTSTAMP:20260422T085115
CREATED:20260413T181922Z
LAST-MODIFIED:20260414T140600Z
UID:10002882-1779030000-1779037200@www.spiritual-center.org
SUMMARY:Spiritual Searcher: Rev. Terri Hord Owens
DESCRIPTION:Sunday\, May 17\nPreaching all 3 Services\n(click link for times and locations) \nPresentation and Book Signing\n3 pm\nFC North\nWing Grace Hall\n\nJoin us for an afternoon with Rev. Dr. Terri Hord Owens\, General Minister and President of the Christian Church-Disciples of Christ. \nWe welcome Rev. Terri Hord Owens\, General Minister and President of the Christian Church (Disciples of Christ) in the United States and Canada. She is the first person of color and second woman to lead the denomination\, and the first woman of African descent to lead a mainline denomination. \nElected in 2017\, Rev. Hord Owens was re-elected to a second term as General Minister and President in 2023. Her ministry actively reflects the Disciples’ priority of being an anti-racist church\, being a movement for wholeness\, welcoming all to the Lord’s table as God has welcomed us. Her exhortation to the church is “Let’s be the church we say we are. It is in being who we say we are that we actively bear witness to God’s limitless love for all.” \nRegister HERE.
URL:https://www.spiritual-center.org/event/spiritual-searcher-rev-terri-hord-owens/
LOCATION:First Community North\, 3777 Dublin Rd\, Columbus\, OH\, 43221\, United States
CATEGORIES:In-Person Event,Spiritual Searcher
ATTACH;FMTTYPE=image/jpeg:https://www.spiritual-center.org/wp-content/uploads/Terri-Hord-Owens-SS-email-social-1.jpg
END:VEVENT
END:VCALENDAR