BEGIN:VCALENDAR
VERSION:2.0
PRODID:-//The Spiritual Life &amp; Learning Center - ECPv6.15.20//NONSGML v1.0//EN
CALSCALE:GREGORIAN
METHOD:PUBLISH
X-ORIGINAL-URL:https://www.spiritual-center.org
X-WR-CALDESC:Events for The Spiritual Life &amp; Learning Center
REFRESH-INTERVAL;VALUE=DURATION:PT1H
X-Robots-Tag:noindex
X-PUBLISHED-TTL:PT1H
BEGIN:VTIMEZONE
TZID:America/New_York
BEGIN:DAYLIGHT
TZOFFSETFROM:-0500
TZOFFSETTO:-0400
TZNAME:EDT
DTSTART:20240310T070000
END:DAYLIGHT
BEGIN:STANDARD
TZOFFSETFROM:-0400
TZOFFSETTO:-0500
TZNAME:EST
DTSTART:20241103T060000
END:STANDARD
BEGIN:DAYLIGHT
TZOFFSETFROM:-0500
TZOFFSETTO:-0400
TZNAME:EDT
DTSTART:20250309T070000
END:DAYLIGHT
BEGIN:STANDARD
TZOFFSETFROM:-0400
TZOFFSETTO:-0500
TZNAME:EST
DTSTART:20251102T060000
END:STANDARD
BEGIN:DAYLIGHT
TZOFFSETFROM:-0500
TZOFFSETTO:-0400
TZNAME:EDT
DTSTART:20260308T070000
END:DAYLIGHT
BEGIN:STANDARD
TZOFFSETFROM:-0400
TZOFFSETTO:-0500
TZNAME:EST
DTSTART:20261101T060000
END:STANDARD
BEGIN:DAYLIGHT
TZOFFSETFROM:-0500
TZOFFSETTO:-0400
TZNAME:EDT
DTSTART:20270314T070000
END:DAYLIGHT
BEGIN:STANDARD
TZOFFSETFROM:-0400
TZOFFSETTO:-0500
TZNAME:EST
DTSTART:20271107T060000
END:STANDARD
END:VTIMEZONE
BEGIN:VEVENT
DTSTART;TZID=America/New_York:20250202T090000
DTEND;TZID=America/New_York:20250202T123000
DTSTAMP:20260419T212447
CREATED:20241219T151503Z
LAST-MODIFIED:20250107T141018Z
UID:10002189-1738486800-1738499400@www.spiritual-center.org
SUMMARY:Spiritual Searcher: Jim Wallis
DESCRIPTION:Spiritual Searcher Weekend with\nJim Wallis\nFebruary 1-2\, 2025\nSaturday\, February 1\n9:30-12:30\nPresentation by Jim Wallis\nShort Break\nQ/A Session\nBook Signing Opportunity \nSunday\, February 2\nPreaching all 3 Services \n(click link above for times and locations)\nJoin us as we welcome our first Spiritual Searcher of 2025\, Jim Wallis\nClick here to learn more about our special guest. \nRegister HERE for Saturday’s event! \nAll are welcome!
URL:https://www.spiritual-center.org/event/spiritual-searcher-jim-wallis/2025-02-02/
LOCATION:First Community North\, 3777 Dublin Rd\, Columbus\, OH\, 43221\, United States
CATEGORIES:Spiritual Searcher
ATTACH;FMTTYPE=image/jpeg:https://www.spiritual-center.org/wp-content/uploads/2-Jim-Wallis-email-social.jpg
END:VEVENT
BEGIN:VEVENT
DTSTART;TZID=America/New_York:20251004T140000
DTEND;TZID=America/New_York:20251004T170000
DTSTAMP:20260419T212447
CREATED:20250804T134353Z
LAST-MODIFIED:20250912T144032Z
UID:10002291-1759586400-1759597200@www.spiritual-center.org
SUMMARY:Spiritual Searcher: Pete Enns
DESCRIPTION:Saturday\, October 4\, 2025\nGladden Lecture Series at\nFirst Congregational Church\n2-5 pm\nLecture/workshop and\nMeet & Greet with book signing\nSunday\, October 5\, 2025\nPreaching all 3 Services\nFirst Community Church\n(click link above for times and locations) \nAbout Dr. Pete Enns\n  \n“Peter Enns (Ph.D.\, Harvard University) is Abram S. Clemens professor of biblical studies at Eastern University in St. Davids\, Pennsylvania. He has written numerous books\, including The Bible Tells Me So\, The Sin of Certainty\, and How the Bible Actually Works.” \nA collection of Pete’s books are available  through the First Community Church Merch website and for sale during the events. \nThe registration form is for the Saturday presentation.\nIf you’d like to ride in a carpool van to Saturday’s event\, click HERE.\nAll are welcome to join us at any of the services on Sunday\, no registration necessary.\nREGISTER HERE\n  \nWatch Spiritual-Center.org and FCchurch.com for updates\, or to learn more about our ministries.\nAny questions\, please email JBratka@FCchurch.com
URL:https://www.spiritual-center.org/event/spiritual-searcher-pete-enns/
LOCATION:First Congregational Church\, 444 E. Broad St.\, Columbus\, OH\, 43215\, United States
CATEGORIES:In-Person Event,Spiritual Searcher
ATTACH;FMTTYPE=image/jpeg:https://www.spiritual-center.org/wp-content/uploads/SS-Pete-Enns-email-social-1.jpg
END:VEVENT
BEGIN:VEVENT
DTSTART;TZID=America/New_York:20251005T090000
DTEND;TZID=America/New_York:20251005T120000
DTSTAMP:20260419T212447
CREATED:20250912T143951Z
LAST-MODIFIED:20250912T144216Z
UID:10002743-1759654800-1759665600@www.spiritual-center.org
SUMMARY:Spiritual Searcher: Pete Enns
DESCRIPTION:Saturday\, October 4\, 2025\nGladden Lecture Series at\nFirst Congregational Church\n2-5 pm\nLecture/workshop and\nMeet & Greet with book signing\nSunday\, October 5\, 2025\nPreaching all 3 Services\nFirst Community Church\n(click link above for times and locations) \nAbout Dr. Pete Enns\n  \n“Peter Enns (Ph.D.\, Harvard University) is Abram S. Clemens professor of biblical studies at Eastern University in St. Davids\, Pennsylvania. He has written numerous books\, including The Bible Tells Me So\, The Sin of Certainty\, and How the Bible Actually Works.” \nA collection of Pete’s books are available  through the First Community Church Merch website and for sale during the events. \nThe registration form is for the Saturday presentation.\nIf you’d like to ride in a carpool van to Saturday’s event\, click HERE.\nAll are welcome to join us at any of the services on Sunday\, no registration necessary.\nREGISTER HERE\n  \nWatch Spiritual-Center.org and FCchurch.com for updates\, or to learn more about our ministries.\nAny questions\, please email JBratka@FCchurch.com
URL:https://www.spiritual-center.org/event/spiritual-searcher-pete-enns-3/
LOCATION:First Community North\, 3777 Dublin Rd\, Columbus\, OH\, 43221\, United States
CATEGORIES:In-Person Event,Spiritual Searcher
ATTACH;FMTTYPE=image/jpeg:https://www.spiritual-center.org/wp-content/uploads/SS-Pete-Enns-email-social-1.jpg
END:VEVENT
BEGIN:VEVENT
DTSTART;TZID=America/New_York:20260517T150000
DTEND;TZID=America/New_York:20260517T170000
DTSTAMP:20260419T212447
CREATED:20260413T181922Z
LAST-MODIFIED:20260414T140600Z
UID:10002882-1779030000-1779037200@www.spiritual-center.org
SUMMARY:Spiritual Searcher: Rev. Terri Hord Owens
DESCRIPTION:Sunday\, May 17\nPreaching all 3 Services\n(click link for times and locations) \nPresentation and Book Signing\n3 pm\nFC North\nWing Grace Hall\n\nJoin us for an afternoon with Rev. Dr. Terri Hord Owens\, General Minister and President of the Christian Church-Disciples of Christ. \nWe welcome Rev. Terri Hord Owens\, General Minister and President of the Christian Church (Disciples of Christ) in the United States and Canada. She is the first person of color and second woman to lead the denomination\, and the first woman of African descent to lead a mainline denomination. \nElected in 2017\, Rev. Hord Owens was re-elected to a second term as General Minister and President in 2023. Her ministry actively reflects the Disciples’ priority of being an anti-racist church\, being a movement for wholeness\, welcoming all to the Lord’s table as God has welcomed us. Her exhortation to the church is “Let’s be the church we say we are. It is in being who we say we are that we actively bear witness to God’s limitless love for all.” \nRegister HERE.
URL:https://www.spiritual-center.org/event/spiritual-searcher-rev-terri-hord-owens/
LOCATION:First Community North\, 3777 Dublin Rd\, Columbus\, OH\, 43221\, United States
CATEGORIES:In-Person Event,Spiritual Searcher
ATTACH;FMTTYPE=image/jpeg:https://www.spiritual-center.org/wp-content/uploads/Terri-Hord-Owens-SS-email-social-1.jpg
END:VEVENT
END:VCALENDAR