BEGIN:VCALENDAR
VERSION:2.0
PRODID:-//The Spiritual Life &amp; Learning Center - ECPv6.15.20//NONSGML v1.0//EN
CALSCALE:GREGORIAN
METHOD:PUBLISH
X-WR-CALNAME:The Spiritual Life &amp; Learning Center
X-ORIGINAL-URL:https://www.spiritual-center.org
X-WR-CALDESC:Events for The Spiritual Life &amp; Learning Center
REFRESH-INTERVAL;VALUE=DURATION:PT1H
X-Robots-Tag:noindex
X-PUBLISHED-TTL:PT1H
BEGIN:VTIMEZONE
TZID:America/New_York
BEGIN:DAYLIGHT
TZOFFSETFROM:-0500
TZOFFSETTO:-0400
TZNAME:EDT
DTSTART:20210314T070000
END:DAYLIGHT
BEGIN:STANDARD
TZOFFSETFROM:-0400
TZOFFSETTO:-0500
TZNAME:EST
DTSTART:20211107T060000
END:STANDARD
BEGIN:DAYLIGHT
TZOFFSETFROM:-0500
TZOFFSETTO:-0400
TZNAME:EDT
DTSTART:20220313T070000
END:DAYLIGHT
BEGIN:STANDARD
TZOFFSETFROM:-0400
TZOFFSETTO:-0500
TZNAME:EST
DTSTART:20221106T060000
END:STANDARD
BEGIN:DAYLIGHT
TZOFFSETFROM:-0500
TZOFFSETTO:-0400
TZNAME:EDT
DTSTART:20230312T070000
END:DAYLIGHT
BEGIN:STANDARD
TZOFFSETFROM:-0400
TZOFFSETTO:-0500
TZNAME:EST
DTSTART:20231105T060000
END:STANDARD
END:VTIMEZONE
BEGIN:VEVENT
DTSTART;TZID=America/New_York:20221219T190000
DTEND;TZID=America/New_York:20221219T200000
DTSTAMP:20260423T195359
CREATED:20220915T172712Z
LAST-MODIFIED:20220921T135918Z
UID:10001174-1671476400-1671480000@www.spiritual-center.org
SUMMARY:Community Justice Monthly Meeting
DESCRIPTION:All three of our community justice teams\, which include Racial Equity\, Gun Violence Prevention\, and Environmental Justice teams; gather on the third Monday of each month in Grace Hall.  This builds our community as we discuss and plan projects and overall direction of the Community Justice ministry together. If you are interested in our community justice teams\, please feel free to join us.  For more information about First Community’s Community Justice Ministry\, click HERE. If you have any questions\, please reach out to Tim Vansant at tvansant@fcchurch.com!
URL:https://www.spiritual-center.org/event/community-justice-september-monthly-meeting/2022-12-19/
LOCATION:First Community North\, 3777 Dublin Rd\, Columbus\, OH\, 43221\, United States
CATEGORIES:In-Person Event
ATTACH;FMTTYPE=image/jpeg:https://www.spiritual-center.org/wp-content/uploads/imageProxy.jpg
ORGANIZER;CN="Tim Vansant":MAILTO:TVansant@FCchurch.com
END:VEVENT
END:VCALENDAR