BEGIN:VCALENDAR
VERSION:2.0
PRODID:-//The Spiritual Life &amp; Learning Center - ECPv6.15.20//NONSGML v1.0//EN
CALSCALE:GREGORIAN
METHOD:PUBLISH
X-WR-CALNAME:The Spiritual Life &amp; Learning Center
X-ORIGINAL-URL:https://www.spiritual-center.org
X-WR-CALDESC:Events for The Spiritual Life &amp; Learning Center
REFRESH-INTERVAL;VALUE=DURATION:PT1H
X-Robots-Tag:noindex
X-PUBLISHED-TTL:PT1H
BEGIN:VTIMEZONE
TZID:America/New_York
BEGIN:DAYLIGHT
TZOFFSETFROM:-0500
TZOFFSETTO:-0400
TZNAME:EDT
DTSTART:20220313T070000
END:DAYLIGHT
BEGIN:STANDARD
TZOFFSETFROM:-0400
TZOFFSETTO:-0500
TZNAME:EST
DTSTART:20221106T060000
END:STANDARD
BEGIN:DAYLIGHT
TZOFFSETFROM:-0500
TZOFFSETTO:-0400
TZNAME:EDT
DTSTART:20230312T070000
END:DAYLIGHT
BEGIN:STANDARD
TZOFFSETFROM:-0400
TZOFFSETTO:-0500
TZNAME:EST
DTSTART:20231105T060000
END:STANDARD
BEGIN:DAYLIGHT
TZOFFSETFROM:-0500
TZOFFSETTO:-0400
TZNAME:EDT
DTSTART:20240310T070000
END:DAYLIGHT
BEGIN:STANDARD
TZOFFSETFROM:-0400
TZOFFSETTO:-0500
TZNAME:EST
DTSTART:20241103T060000
END:STANDARD
END:VTIMEZONE
BEGIN:VEVENT
DTSTART;TZID=America/New_York:20230101T150000
DTEND;TZID=America/New_York:20230101T150000
DTSTAMP:20260423T121916
CREATED:20220921T152216Z
LAST-MODIFIED:20241219T165603Z
UID:10001145-1672585200-1672585200@www.spiritual-center.org
SUMMARY:Monthly Ministries 4 Movement Marches
DESCRIPTION:Several members of the Racial Equity and Gun Violence Prevention (GVPMT) Ministry Teams participate monthly in a march and worship/information session with members of the Family Missionary Baptist Church and Ministries 4 Movement partners in the South End of Columbus the first Sunday of each month.  First Community is recognized as an official partner of Ministries 4 Movement.  We continue to work with this community and other partners for sustainment and new opportunities to contribute to justice causes.  These marches occur the first Sunday of each month (rain or shine) at 3pm. \nIf interest in attending these events\, please contact: John Girardor for more information\, click HERE.
URL:https://www.spiritual-center.org/event/monthly-ministries-4-movement-marches/2023-01-01/
LOCATION:Family Missionary Baptist Church\, 996 Oakwood Ave\, Columbus\, OH\, United States
CATEGORIES:Community Justice,In-Person Event
ATTACH;FMTTYPE=image/jpeg:https://www.spiritual-center.org/wp-content/uploads/m4m-1-e1663773987818.jpg
END:VEVENT
BEGIN:VEVENT
DTSTART;TZID=America/New_York:20230104T180000
DTEND;TZID=America/New_York:20230104T190000
DTSTAMP:20260423T121916
CREATED:20220802T230254Z
LAST-MODIFIED:20230103T175134Z
UID:10000558-1672855200-1672858800@www.spiritual-center.org
SUMMARY:Clergy-Led Bible Study for Adults
DESCRIPTION:Join us for a Bible study each Wednesday from 6:00pm to 7:00pm in Grace Hall at First Community North.  Bible studies will be led by First Community clergy each week.  Teachers and topics will rotate.  Clergy include Rev. Glen Miles\, Rev. Mary Kate Buchanan\, Rev. Sarah Kientz\, and Rev. Tim VanSant. \n*Before the Bible study\, you are also invited to a light supper at 5:30 PM and a short worship service with devotion at 5:45 PM.  Bible study begins at 6:00 PM. \nREGISTRATION:  No registration needed.  Just show up!
URL:https://www.spiritual-center.org/event/new-event-2/2023-01-04/
LOCATION:First Community North\, 3777 Dublin Rd\, Columbus\, OH\, 43221\, United States
CATEGORIES:Bible Study,Book Discussion,In-Person Event
ATTACH;FMTTYPE=image/jpeg:https://www.spiritual-center.org/wp-content/uploads/The-Gathering-email-social-4.jpg
ORGANIZER;CN="First Community Clergy":MAILTO:jbratka@fcchurch.com
END:VEVENT
BEGIN:VEVENT
DTSTART;TZID=America/New_York:20230111T180000
DTEND;TZID=America/New_York:20230111T190000
DTSTAMP:20260423T121916
CREATED:20220802T230254Z
LAST-MODIFIED:20230103T175134Z
UID:10000559-1673460000-1673463600@www.spiritual-center.org
SUMMARY:Clergy-Led Bible Study for Adults
DESCRIPTION:Join us for a Bible study each Wednesday from 6:00pm to 7:00pm in Grace Hall at First Community North.  Bible studies will be led by First Community clergy each week.  Teachers and topics will rotate.  Clergy include Rev. Glen Miles\, Rev. Mary Kate Buchanan\, Rev. Sarah Kientz\, and Rev. Tim VanSant. \n*Before the Bible study\, you are also invited to a light supper at 5:30 PM and a short worship service with devotion at 5:45 PM.  Bible study begins at 6:00 PM. \nREGISTRATION:  No registration needed.  Just show up!
URL:https://www.spiritual-center.org/event/new-event-2/2023-01-11/
LOCATION:First Community North\, 3777 Dublin Rd\, Columbus\, OH\, 43221\, United States
CATEGORIES:Bible Study,Book Discussion,In-Person Event
ATTACH;FMTTYPE=image/jpeg:https://www.spiritual-center.org/wp-content/uploads/The-Gathering-email-social-4.jpg
ORGANIZER;CN="First Community Clergy":MAILTO:jbratka@fcchurch.com
END:VEVENT
BEGIN:VEVENT
DTSTART;TZID=America/New_York:20230118T180000
DTEND;TZID=America/New_York:20230118T190000
DTSTAMP:20260423T121916
CREATED:20220802T230254Z
LAST-MODIFIED:20230103T175134Z
UID:10000560-1674064800-1674068400@www.spiritual-center.org
SUMMARY:Clergy-Led Bible Study for Adults
DESCRIPTION:Join us for a Bible study each Wednesday from 6:00pm to 7:00pm in Grace Hall at First Community North.  Bible studies will be led by First Community clergy each week.  Teachers and topics will rotate.  Clergy include Rev. Glen Miles\, Rev. Mary Kate Buchanan\, Rev. Sarah Kientz\, and Rev. Tim VanSant. \n*Before the Bible study\, you are also invited to a light supper at 5:30 PM and a short worship service with devotion at 5:45 PM.  Bible study begins at 6:00 PM. \nREGISTRATION:  No registration needed.  Just show up!
URL:https://www.spiritual-center.org/event/new-event-2/2023-01-18/
LOCATION:First Community North\, 3777 Dublin Rd\, Columbus\, OH\, 43221\, United States
CATEGORIES:Bible Study,Book Discussion,In-Person Event
ATTACH;FMTTYPE=image/jpeg:https://www.spiritual-center.org/wp-content/uploads/The-Gathering-email-social-4.jpg
ORGANIZER;CN="First Community Clergy":MAILTO:jbratka@fcchurch.com
END:VEVENT
BEGIN:VEVENT
DTSTART;TZID=America/New_York:20230125T180000
DTEND;TZID=America/New_York:20230125T190000
DTSTAMP:20260423T121916
CREATED:20220802T230254Z
LAST-MODIFIED:20230103T175134Z
UID:10000561-1674669600-1674673200@www.spiritual-center.org
SUMMARY:Clergy-Led Bible Study for Adults
DESCRIPTION:Join us for a Bible study each Wednesday from 6:00pm to 7:00pm in Grace Hall at First Community North.  Bible studies will be led by First Community clergy each week.  Teachers and topics will rotate.  Clergy include Rev. Glen Miles\, Rev. Mary Kate Buchanan\, Rev. Sarah Kientz\, and Rev. Tim VanSant. \n*Before the Bible study\, you are also invited to a light supper at 5:30 PM and a short worship service with devotion at 5:45 PM.  Bible study begins at 6:00 PM. \nREGISTRATION:  No registration needed.  Just show up!
URL:https://www.spiritual-center.org/event/new-event-2/2023-01-25/
LOCATION:First Community North\, 3777 Dublin Rd\, Columbus\, OH\, 43221\, United States
CATEGORIES:Bible Study,Book Discussion,In-Person Event
ATTACH;FMTTYPE=image/jpeg:https://www.spiritual-center.org/wp-content/uploads/The-Gathering-email-social-4.jpg
ORGANIZER;CN="First Community Clergy":MAILTO:jbratka@fcchurch.com
END:VEVENT
END:VCALENDAR