BEGIN:VCALENDAR
VERSION:2.0
PRODID:-//The Spiritual Life &amp; Learning Center - ECPv6.15.20//NONSGML v1.0//EN
CALSCALE:GREGORIAN
METHOD:PUBLISH
X-ORIGINAL-URL:https://www.spiritual-center.org
X-WR-CALDESC:Events for The Spiritual Life &amp; Learning Center
REFRESH-INTERVAL;VALUE=DURATION:PT1H
X-Robots-Tag:noindex
X-PUBLISHED-TTL:PT1H
BEGIN:VTIMEZONE
TZID:America/New_York
BEGIN:DAYLIGHT
TZOFFSETFROM:-0500
TZOFFSETTO:-0400
TZNAME:EDT
DTSTART:20240310T070000
END:DAYLIGHT
BEGIN:STANDARD
TZOFFSETFROM:-0400
TZOFFSETTO:-0500
TZNAME:EST
DTSTART:20241103T060000
END:STANDARD
BEGIN:DAYLIGHT
TZOFFSETFROM:-0500
TZOFFSETTO:-0400
TZNAME:EDT
DTSTART:20250309T070000
END:DAYLIGHT
BEGIN:STANDARD
TZOFFSETFROM:-0400
TZOFFSETTO:-0500
TZNAME:EST
DTSTART:20251102T060000
END:STANDARD
BEGIN:DAYLIGHT
TZOFFSETFROM:-0500
TZOFFSETTO:-0400
TZNAME:EDT
DTSTART:20260308T070000
END:DAYLIGHT
BEGIN:STANDARD
TZOFFSETFROM:-0400
TZOFFSETTO:-0500
TZNAME:EST
DTSTART:20261101T060000
END:STANDARD
END:VTIMEZONE
BEGIN:VEVENT
DTSTART;TZID=America/New_York:20250922T200000
DTEND;TZID=America/New_York:20250922T210000
DTSTAMP:20260425T132444
CREATED:20250912T142640Z
LAST-MODIFIED:20250912T143050Z
UID:10002565-1758571200-1758574800@www.spiritual-center.org
SUMMARY:Autumnal Equinox Labyrinth Walk
DESCRIPTION:Monday\, September 22\n8-9:30 pm\nLabyrinth Garden\nFC North\nRegister HERE\nLet’s mark the changing seasons by integrating the body with the mind and spirit.\nArrive at 8 pm to hear information about the history and importance of labyrinths and our connection to them and the difference between solstices and equinoxes; or anytime after 8:30 pm to walk the labyrinth independently. \nLabyrinths are used world-wide as a way to quiet the mind\, calm anxieties\, recover balance in life\, enhance creativity\, and encourage meditation\, insight\, self-reflection\, and stress reduction. \nThere is bench seating around the labyrinth to enjoy the ambiance\, or feel free to bring your own chair to enjoy the beauty of the evening. \nWe also have finger labyrinths for anyone with limited mobility who would also like to join us and experience the peaceful evening. \nThis is a weather-dependent event and will be cancelled if it rains. \nThe autumnal equinox for 2025 will occur at 2:21 pm EST on Monday\, September 22. \nAny questions\, please reach out to Jen Bratka – JBratka@FCchurch.com.
URL:https://www.spiritual-center.org/event/autumnal-equinox-labyrinth-walk/
LOCATION:First Community Labyrinth\, 3777 Dublin Rd.\, COLUMBUS\, OH\, 43221\, United States
ATTACH;FMTTYPE=image/jpeg:https://www.spiritual-center.org/wp-content/uploads/Autumn-Equinox-Labyrinth-email-social.jpeg
END:VEVENT
END:VCALENDAR